BEGIN:VCALENDAR
VERSION:2.0
PRODID:-//Sabre//Sabre VObject 4.5.8//EN
CALSCALE:GREGORIAN
BEGIN:VEVENT
UID:sabre-vobject-6e1c4296-031e-4b03-80db-19de1de1c5d6
DTSTAMP:20260425T000614Z
SUMMARY:Cornhole Toss Tournament @ Suwon CAC
DESCRIPTION:
X-ALT-DESC:FMTTYPE=text/html:<!DOCTYPE HTML PUBLIC "-//W3C//DTD HTML 3.2//E
 N"><HTML></HTML>
CREATED;TZID=Asia/Seoul:20230404T153044
URL;VALUE=URI:https://humphreys.armymwr.com/calendar/event
DTSTART;TZID=Asia/Seoul:20230624T180000
DTEND;TZID=Asia/Seoul:20230624T190000
SEQUENCE:0
END:VEVENT
END:VCALENDAR
