BEGIN:VCALENDAR
VERSION:2.0
PRODID:-//Sabre//Sabre VObject 4.5.8//EN
CALSCALE:GREGORIAN
BEGIN:VEVENT
UID:sabre-vobject-a43402ff-2894-4d48-979c-ced0a5ac4ea4
DTSTAMP:20260424T234839Z
SUMMARY:Liberty Lift Off
DESCRIPTION:@ Turner Fitness Center\, Bldg. 2063\n
X-ALT-DESC:FMTTYPE=text/html:<!DOCTYPE HTML PUBLIC "-//W3C//DTD HTML 3.2//E
 N"><HTML><p>@ Turner Fitness Center\, Bldg. 2063</p>\n</HTML>
CREATED;TZID=Asia/Seoul:20230425T133802
URL;VALUE=URI:https://humphreys.armymwr.com/calendar/event
DTSTART;TZID=Asia/Seoul:20230630T140000
DTEND;TZID=Asia/Seoul:20230630T150000
SEQUENCE:0
END:VEVENT
END:VCALENDAR
