BEGIN:VCALENDAR
VERSION:2.0
PRODID:-//Sabre//Sabre VObject 4.5.8//EN
CALSCALE:GREGORIAN
BEGIN:VEVENT
UID:sabre-vobject-42cea843-e169-450e-bed0-d55284ff1ac5
DTSTAMP:20260425T035624Z
SUMMARY:Army Ten Miler (ATM) Qualifier I & II
DESCRIPTION:Pre-Register at any fitness center!\n
X-ALT-DESC:FMTTYPE=text/html:<!DOCTYPE HTML PUBLIC "-//W3C//DTD HTML 3.2//E
 N"><HTML><p>Pre-Register at any fitness center!</p>\n</HTML>
CREATED;TZID=Asia/Seoul:20230515T111856
URL;VALUE=URI:https://humphreys.armymwr.com/calendar/event
DTSTART;TZID=Asia/Seoul:20230513T060000
DTEND;TZID=Asia/Seoul:20230513T070000
SEQUENCE:0
END:VEVENT
BEGIN:VEVENT
UID:sabre-vobject-d36e9247-1936-43a4-ab00-a6c48be24b7c
DTSTAMP:20260425T035624Z
SUMMARY:Army Ten Miler (ATM) Qualifier I & II
DESCRIPTION:Pre-Register at any fitness center!\n
X-ALT-DESC:FMTTYPE=text/html:<!DOCTYPE HTML PUBLIC "-//W3C//DTD HTML 3.2//E
 N"><HTML><p>Pre-Register at any fitness center!</p>\n</HTML>
CREATED;TZID=Asia/Seoul:20230515T111856
URL;VALUE=URI:https://humphreys.armymwr.com/calendar/event
DTSTART;TZID=Asia/Seoul:20230715T060000
DTEND;TZID=Asia/Seoul:20230715T070000
SEQUENCE:1
END:VEVENT
END:VCALENDAR
