BEGIN:VCALENDAR
VERSION:2.0
PRODID:-//Sabre//Sabre VObject 4.5.8//EN
CALSCALE:GREGORIAN
BEGIN:VEVENT
UID:sabre-vobject-56a60860-7bda-4e9b-a692-139c80028813
DTSTAMP:20260425T023854Z
SUMMARY:Caribbean Bay Trip
DESCRIPTION:This water park is perfect for friends and family members to co
 ol off the summer heat! Register by June 22\, 1 p.m.\n
X-ALT-DESC:FMTTYPE=text/html:<!DOCTYPE HTML PUBLIC "-//W3C//DTD HTML 3.2//E
 N"><HTML><p>This water park is perfect for friends and family members to c
 ool off the summer heat!<strong> Register by June 22\, 1 p.m.</strong></p>
 \n</HTML>
CREATED;TZID=Asia/Seoul:20230505T102233
URL;VALUE=URI:https://humphreys.armymwr.com/calendar/event
DTSTART;TZID=Asia/Seoul:20230624T090000
DTEND;TZID=Asia/Seoul:20230624T180000
SEQUENCE:0
END:VEVENT
END:VCALENDAR
