BEGIN:VCALENDAR
VERSION:2.0
PRODID:-//Sabre//Sabre VObject 4.5.8//EN
CALSCALE:GREGORIAN
BEGIN:VEVENT
UID:sabre-vobject-93184653-0fc9-4d8c-a9a5-da56c2577e50
DTSTAMP:20260425T184755Z
SUMMARY:Surfing in Yangyang
DESCRIPTION:Yangyang beach is the best surf spot in Korea so get ready to h
 ave some fun in the sun!&nbsp\;Register by July 13\, 1 p.m.\n
X-ALT-DESC:FMTTYPE=text/html:<!DOCTYPE HTML PUBLIC "-//W3C//DTD HTML 3.2//E
 N"><HTML><p>Yangyang beach is the best surf spot in Korea so get ready to 
 have some fun in the sun!<strong>&nbsp\;Register by July 13\, 1 p.m.</stro
 ng></p>\n</HTML>
CREATED;TZID=Asia/Seoul:20230505T111614
URL;VALUE=URI:https://humphreys.armymwr.com/calendar/event
DTSTART;TZID=Asia/Seoul:20230715T060000
DTEND;TZID=Asia/Seoul:20230715T180000
SEQUENCE:0
END:VEVENT
END:VCALENDAR
