BEGIN:VCALENDAR
VERSION:2.0
PRODID:-//Sabre//Sabre VObject 4.5.8//EN
CALSCALE:GREGORIAN
BEGIN:VEVENT
UID:sabre-vobject-72aa03f1-c488-4fe2-999b-3dc7be009da1
DTSTAMP:20260425T035625Z
SUMMARY:Pool Tournament @ Suwon CAC
DESCRIPTION:Double elimination. Come out and shoot your shot.\n
X-ALT-DESC:FMTTYPE=text/html:<!DOCTYPE HTML PUBLIC "-//W3C//DTD HTML 3.2//E
 N"><HTML><p>Double elimination. Come out and shoot your shot.</p>\n</HTML>
CREATED;TZID=Asia/Seoul:20230501T102432
URL;VALUE=URI:https://humphreys.armymwr.com/calendar/event
DTSTART;TZID=Asia/Seoul:20230701T180000
DTEND;TZID=Asia/Seoul:20230701T190000
SEQUENCE:0
END:VEVENT
END:VCALENDAR
