BEGIN:VCALENDAR
VERSION:2.0
PRODID:-//Sabre//Sabre VObject 4.5.8//EN
CALSCALE:GREGORIAN
BEGIN:VEVENT
UID:sabre-vobject-cae53900-9c59-4379-873f-82c05bca4e31
DTSTAMP:20260425T035550Z
SUMMARY:Ping Pong Tournament @ Suwon CAC
DESCRIPTION:
X-ALT-DESC:FMTTYPE=text/html:<!DOCTYPE HTML PUBLIC "-//W3C//DTD HTML 3.2//E
 N"><HTML></HTML>
CREATED;TZID=Asia/Seoul:20230501T102626
URL;VALUE=URI:https://humphreys.armymwr.com/calendar/event
DTSTART;TZID=Asia/Seoul:20230708T180000
DTEND;TZID=Asia/Seoul:20230708T190000
SEQUENCE:0
END:VEVENT
END:VCALENDAR
