BEGIN:VCALENDAR
VERSION:2.0
PRODID:-//Sabre//Sabre VObject 4.5.8//EN
CALSCALE:GREGORIAN
BEGIN:VEVENT
UID:sabre-vobject-c07edb06-9c7b-4093-9485-7866b4dde4c8
DTSTAMP:20260423T130341Z
SUMMARY:Frisbee Bottle Bash Tournament @ Suwon CAC
DESCRIPTION:
X-ALT-DESC:FMTTYPE=text/html:<!DOCTYPE HTML PUBLIC "-//W3C//DTD HTML 3.2//E
 N"><HTML></HTML>
CREATED;TZID=Asia/Seoul:20230501T103401
URL;VALUE=URI:https://humphreys.armymwr.com/calendar/event
DTSTART;TZID=Asia/Seoul:20230722T180000
DTEND;TZID=Asia/Seoul:20230722T190000
SEQUENCE:0
END:VEVENT
END:VCALENDAR
