BEGIN:VCALENDAR
VERSION:2.0
PRODID:-//Sabre//Sabre VObject 4.5.8//EN
CALSCALE:GREGORIAN
BEGIN:VEVENT
UID:sabre-vobject-e07cf7b4-2b17-4a33-8000-ddadd95f59e7
DTSTAMP:20260421T040800Z
SUMMARY:Cube (3x3x3) Tournament @ Suwon CAC
DESCRIPTION:Compete with your own tactics and speed! &nbsp\;Prize for 1st p
 lace.\n
X-ALT-DESC:FMTTYPE=text/html:<!DOCTYPE HTML PUBLIC "-//W3C//DTD HTML 3.2//E
 N"><HTML><p>Compete with your own tactics and speed! &nbsp\;Prize for 1st 
 place.</p>\n</HTML>
CREATED;TZID=Asia/Seoul:20230501T103856
URL;VALUE=URI:https://humphreys.armymwr.com/calendar/event
DTSTART;TZID=Asia/Seoul:20230729T180000
DTEND;TZID=Asia/Seoul:20230729T190000
SEQUENCE:0
END:VEVENT
END:VCALENDAR
