BEGIN:VCALENDAR
VERSION:2.0
PRODID:-//Sabre//Sabre VObject 4.5.8//EN
CALSCALE:GREGORIAN
BEGIN:VEVENT
UID:sabre-vobject-597e040d-511b-41b2-baa8-a0fec86a63ae
DTSTAMP:20260425T170526Z
SUMMARY:Kid's Summer Art Camp
DESCRIPTION:June 21-23\, 2023 @ Arts &amp\; Crafts\, Bldg. 5711\n
X-ALT-DESC:FMTTYPE=text/html:<!DOCTYPE HTML PUBLIC "-//W3C//DTD HTML 3.2//E
 N"><HTML><p>June 21-23\, 2023 @ Arts &amp\; Crafts\, Bldg. 5711</p>\n</HTM
 L>
CREATED;TZID=Asia/Seoul:20230612T090033
URL;VALUE=URI:https://humphreys.armymwr.com/calendar/event
DTSTART;TZID=Asia/Seoul:20230621T110000
DTEND;TZID=Asia/Seoul:20230621T150000
SEQUENCE:0
END:VEVENT
BEGIN:VEVENT
UID:sabre-vobject-e46b0fe5-6b21-4a3c-9992-b78794a07a6e
DTSTAMP:20260425T170526Z
SUMMARY:Kid's Summer Art Camp
DESCRIPTION:June 21-23\, 2023 @ Arts &amp\; Crafts\, Bldg. 5711\n
X-ALT-DESC:FMTTYPE=text/html:<!DOCTYPE HTML PUBLIC "-//W3C//DTD HTML 3.2//E
 N"><HTML><p>June 21-23\, 2023 @ Arts &amp\; Crafts\, Bldg. 5711</p>\n</HTM
 L>
CREATED;TZID=Asia/Seoul:20230612T090033
URL;VALUE=URI:https://humphreys.armymwr.com/calendar/event
DTSTART;TZID=Asia/Seoul:20230622T110000
DTEND;TZID=Asia/Seoul:20230622T150000
SEQUENCE:1
END:VEVENT
BEGIN:VEVENT
UID:sabre-vobject-e47a3308-a34a-4505-aadc-db5fb44721a5
DTSTAMP:20260425T170526Z
SUMMARY:Kid's Summer Art Camp
DESCRIPTION:June 21-23\, 2023 @ Arts &amp\; Crafts\, Bldg. 5711\n
X-ALT-DESC:FMTTYPE=text/html:<!DOCTYPE HTML PUBLIC "-//W3C//DTD HTML 3.2//E
 N"><HTML><p>June 21-23\, 2023 @ Arts &amp\; Crafts\, Bldg. 5711</p>\n</HTM
 L>
CREATED;TZID=Asia/Seoul:20230612T090033
URL;VALUE=URI:https://humphreys.armymwr.com/calendar/event
DTSTART;TZID=Asia/Seoul:20230623T110000
DTEND;TZID=Asia/Seoul:20230623T150000
SEQUENCE:2
END:VEVENT
END:VCALENDAR
