BEGIN:VCALENDAR
VERSION:2.0
PRODID:-//Sabre//Sabre VObject 4.5.8//EN
CALSCALE:GREGORIAN
BEGIN:VEVENT
UID:sabre-vobject-7d2bb927-e18f-469d-9b53-2ea221592fda
DTSTAMP:20260425T011459Z
SUMMARY:Bubbles Day @ DTRC
DESCRIPTION:
X-ALT-DESC:FMTTYPE=text/html:<!DOCTYPE HTML PUBLIC "-//W3C//DTD HTML 3.2//E
 N"><HTML></HTML>
CREATED;TZID=Asia/Seoul:20230508T132523
URL;VALUE=URI:https://humphreys.armymwr.com/calendar/event
DTSTART;TZID=Asia/Seoul:20230624T130000
DTEND;TZID=Asia/Seoul:20230624T140000
SEQUENCE:0
END:VEVENT
END:VCALENDAR
