BEGIN:VCALENDAR
VERSION:2.0
PRODID:-//Sabre//Sabre VObject 4.5.8//EN
CALSCALE:GREGORIAN
BEGIN:VEVENT
UID:sabre-vobject-89b9658e-a184-4ed9-9df7-0aa5bdd34cb0
DTSTAMP:20260425T035626Z
SUMMARY:Air Hockey Tournament @ DTRC
DESCRIPTION:
X-ALT-DESC:FMTTYPE=text/html:<!DOCTYPE HTML PUBLIC "-//W3C//DTD HTML 3.2//E
 N"><HTML></HTML>
CREATED;TZID=Asia/Seoul:20230508T130715
URL;VALUE=URI:https://humphreys.armymwr.com/calendar/event
DTSTART;TZID=Asia/Seoul:20230707T180000
DTEND;TZID=Asia/Seoul:20230707T190000
SEQUENCE:0
END:VEVENT
END:VCALENDAR
