BEGIN:VCALENDAR
VERSION:2.0
PRODID:-//Sabre//Sabre VObject 4.5.8//EN
CALSCALE:GREGORIAN
BEGIN:VEVENT
UID:sabre-vobject-59e1d670-f449-4af4-be14-50021618f45e
DTSTAMP:20260425T184757Z
SUMMARY:Ping Pong Tournament @ DTRC
DESCRIPTION:
X-ALT-DESC:FMTTYPE=text/html:<!DOCTYPE HTML PUBLIC "-//W3C//DTD HTML 3.2//E
 N"><HTML></HTML>
CREATED;TZID=Asia/Seoul:20230508T130902
URL;VALUE=URI:https://humphreys.armymwr.com/calendar/event
DTSTART;TZID=Asia/Seoul:20230714T180000
DTEND;TZID=Asia/Seoul:20230714T190000
SEQUENCE:0
END:VEVENT
END:VCALENDAR
