BEGIN:VCALENDAR
VERSION:2.0
PRODID:-//Sabre//Sabre VObject 4.5.8//EN
CALSCALE:GREGORIAN
BEGIN:VEVENT
UID:sabre-vobject-19dca21e-bf5c-4a54-b40b-59016728954d
DTSTAMP:20260426T000049Z
SUMMARY:BOSS "National Park Trip: Sobaeksan"
DESCRIPTION:Sobaeksan National Park is located in the provinces of Chungche
 ongbuk-do and Gyeongsangbuk-do\, South Korea!\n
X-ALT-DESC:FMTTYPE=text/html:<!DOCTYPE HTML PUBLIC "-//W3C//DTD HTML 3.2//E
 N"><HTML><p>Sobaeksan National Park is located in the provinces of Chungch
 eongbuk-do and Gyeongsangbuk-do\, South Korea!</p>\n</HTML>
CREATED;TZID=Asia/Seoul:20230605T135402
URL;VALUE=URI:https://humphreys.armymwr.com/calendar/event
DTSTART;TZID=Asia/Seoul:20230610T060000
DTEND;TZID=Asia/Seoul:20230610T190000
SEQUENCE:0
END:VEVENT
END:VCALENDAR
