BEGIN:VCALENDAR
VERSION:2.0
PRODID:-//Sabre//Sabre VObject 4.5.8//EN
CALSCALE:GREGORIAN
BEGIN:VEVENT
UID:sabre-vobject-4d49e97e-165b-4313-89c6-4f343eae32c9
DTSTAMP:20260425T025834Z
SUMMARY:BOSS "National Park Trip: Woraksan"
DESCRIPTION:Woraksan National Park is located in the provinces of Chungcheo
 ngbuk-do and Gyeongsangbuk-do\, South Korea!\n
X-ALT-DESC:FMTTYPE=text/html:<!DOCTYPE HTML PUBLIC "-//W3C//DTD HTML 3.2//E
 N"><HTML><p>Woraksan National Park is located in the provinces of Chungche
 ongbuk-do and Gyeongsangbuk-do\, South Korea!</p>\n</HTML>
CREATED;TZID=Asia/Seoul:20230605T135335
URL;VALUE=URI:https://humphreys.armymwr.com/calendar/event
DTSTART;TZID=Asia/Seoul:20230624T060000
DTEND;TZID=Asia/Seoul:20230624T190000
SEQUENCE:0
END:VEVENT
END:VCALENDAR
