BEGIN:VCALENDAR
VERSION:2.0
PRODID:-//Sabre//Sabre VObject 4.5.8//EN
CALSCALE:GREGORIAN
BEGIN:VEVENT
UID:sabre-vobject-b17eecde-0c92-4de8-b1bc-66e4cbc59b59
DTSTAMP:20260425T011458Z
SUMMARY:Glow Run 5K
DESCRIPTION:@&nbsp\;Balboni Field Pavilion\n
X-ALT-DESC:FMTTYPE=text/html:<!DOCTYPE HTML PUBLIC "-//W3C//DTD HTML 3.2//E
 N"><HTML><p>@&nbsp\;Balboni Field Pavilion</p>\n</HTML>
CREATED;TZID=Asia/Seoul:20230523T144118
URL;VALUE=URI:https://humphreys.armymwr.com/calendar/event
DTSTART;TZID=Asia/Seoul:20230630T200000
DTEND;TZID=Asia/Seoul:20230630T210000
SEQUENCE:0
END:VEVENT
END:VCALENDAR
