BEGIN:VCALENDAR
VERSION:2.0
PRODID:-//Sabre//Sabre VObject 4.5.8//EN
CALSCALE:GREGORIAN
BEGIN:VEVENT
UID:sabre-vobject-8e137276-84d8-4002-8f2f-ba0addec9ccd
DTSTAMP:20260424T234837Z
SUMMARY:4th of July Weekend Bowling Specials
DESCRIPTION:@ Downtown Lanes\, Bldg. 5722\n
X-ALT-DESC:FMTTYPE=text/html:<!DOCTYPE HTML PUBLIC "-//W3C//DTD HTML 3.2//E
 N"><HTML><p>@ Downtown Lanes\, Bldg. 5722</p>\n</HTML>
CREATED;TZID=Asia/Seoul:20230524T085339
URL;VALUE=URI:https://humphreys.armymwr.com/calendar/event
DTSTART;TZID=Asia/Seoul:20230630T110000
DTEND;TZID=Asia/Seoul:20230704T120000
SEQUENCE:0
END:VEVENT
END:VCALENDAR
