BEGIN:VCALENDAR
VERSION:2.0
PRODID:-//Sabre//Sabre VObject 4.5.8//EN
CALSCALE:GREGORIAN
BEGIN:VEVENT
UID:sabre-vobject-d5d3cf66-742e-4fc8-a28d-a4bd588517cb
DTSTAMP:20260421T055942Z
SUMMARY:Seoul Land Lunar Park
DESCRIPTION:Festival of lights &lsquo\;Lunar Park&rsquo\;!&nbsp\;Register b
 y August 10\, 1 p.m.\n
X-ALT-DESC:FMTTYPE=text/html:<!DOCTYPE HTML PUBLIC "-//W3C//DTD HTML 3.2//E
 N"><HTML><p>Festival of lights &lsquo\;Lunar Park&rsquo\;!&nbsp\;<strong>R
 egister by August 10\, 1 p.m.</strong></p>\n</HTML>
CREATED;TZID=Asia/Seoul:20230612T084825
URL;VALUE=URI:https://humphreys.armymwr.com/calendar/event
DTSTART;TZID=Asia/Seoul:20230812T150000
DTEND;TZID=Asia/Seoul:20230812T220000
SEQUENCE:0
END:VEVENT
END:VCALENDAR
