BEGIN:VCALENDAR
VERSION:2.0
PRODID:-//Sabre//Sabre VObject 4.5.8//EN
CALSCALE:GREGORIAN
BEGIN:VEVENT
UID:sabre-vobject-92865fcd-59bb-4036-9542-807b756b6326
DTSTAMP:20260425T184756Z
SUMMARY:Garden of Morning Calm & Water Garden Trekking
DESCRIPTION:You can walk among a profusion of flowers in a unique garden an
 d through a lush forest of pine nut trees!&nbsp\;Register by September 07\
 , 1 p.m.\n
X-ALT-DESC:FMTTYPE=text/html:<!DOCTYPE HTML PUBLIC "-//W3C//DTD HTML 3.2//E
 N"><HTML><p>You can walk among a profusion of flowers in a unique garden a
 nd through a lush forest of pine nut trees!&nbsp\;<strong>Register by Sept
 ember 07\, 1 p.m.</strong></p>\n</HTML>
CREATED;TZID=Asia/Seoul:20230612T085045
URL;VALUE=URI:https://humphreys.armymwr.com/calendar/event
DTSTART;TZID=Asia/Seoul:20230909T080000
DTEND;TZID=Asia/Seoul:20230909T180000
SEQUENCE:0
END:VEVENT
END:VCALENDAR
