BEGIN:VCALENDAR
VERSION:2.0
PRODID:-//Sabre//Sabre VObject 4.5.8//EN
CALSCALE:GREGORIAN
BEGIN:VEVENT
UID:sabre-vobject-d1976a95-d181-45e0-91af-725a2cfe5b5a
DTSTAMP:20260425T023853Z
SUMMARY:Father's Day Barbeque
DESCRIPTION:Between 11:00 a.m. to 3:00 p.m. @ River Bend Pub\, Bldg. 5904\n
X-ALT-DESC:FMTTYPE=text/html:<!DOCTYPE HTML PUBLIC "-//W3C//DTD HTML 3.2//E
 N"><HTML><p>Between 11:00 a.m. to 3:00 p.m. @ River Bend Pub\, Bldg. 5904<
 /p>\n</HTML>
CREATED;TZID=Asia/Seoul:20230612T151547
URL;VALUE=URI:https://humphreys.armymwr.com/calendar/event
DTSTART;TZID=Asia/Seoul:20230618T110000
DTEND;TZID=Asia/Seoul:20230618T150000
SEQUENCE:0
END:VEVENT
END:VCALENDAR
