BEGIN:VCALENDAR
VERSION:2.0
PRODID:-//Sabre//Sabre VObject 4.5.8//EN
CALSCALE:GREGORIAN
BEGIN:VEVENT
UID:sabre-vobject-6ae53f57-8e7e-4f26-9fc1-c9202713aad4
DTSTAMP:20260423T203239Z
SUMMARY:**CANCELED**Themed-Story Tuesdays
DESCRIPTION:Theme-based early literacy storytime for preschoolers!\n
X-ALT-DESC:FMTTYPE=text/html:<!DOCTYPE HTML PUBLIC "-//W3C//DTD HTML 3.2//E
 N"><HTML><p>Theme-based early literacy storytime for preschoolers!</p>\n</
 HTML>
CREATED;TZID=Asia/Seoul:20230717T090026
URL;VALUE=URI:https://humphreys.armymwr.com/calendar/event
DTSTART;TZID=Asia/Seoul:20230829T103000
DTEND;TZID=Asia/Seoul:20230829T113000
SEQUENCE:0
END:VEVENT
END:VCALENDAR
