BEGIN:VCALENDAR
VERSION:2.0
PRODID:-//Sabre//Sabre VObject 4.5.8//EN
CALSCALE:GREGORIAN
BEGIN:VEVENT
UID:sabre-vobject-686341db-a5ca-49be-bb29-e69d43a12559
DTSTAMP:20260421T055952Z
SUMMARY:Family Movie Night @ DTRC
DESCRIPTION:
X-ALT-DESC:FMTTYPE=text/html:<!DOCTYPE HTML PUBLIC "-//W3C//DTD HTML 3.2//E
 N"><HTML></HTML>
CREATED;TZID=Asia/Seoul:20230717T095026
URL;VALUE=URI:https://humphreys.armymwr.com/calendar/event
DTSTART;TZID=Asia/Seoul:20230803T170000
DTEND;TZID=Asia/Seoul:20230803T180000
SEQUENCE:0
END:VEVENT
END:VCALENDAR
