BEGIN:VCALENDAR
VERSION:2.0
PRODID:-//Sabre//Sabre VObject 4.5.8//EN
CALSCALE:GREGORIAN
BEGIN:VEVENT
UID:sabre-vobject-a0c97fa9-cd60-4336-9acd-d55b5176c862
DTSTAMP:20260421T055959Z
SUMMARY:Ping Pong Tournament @ DTRC
DESCRIPTION:
X-ALT-DESC:FMTTYPE=text/html:<!DOCTYPE HTML PUBLIC "-//W3C//DTD HTML 3.2//E
 N"><HTML></HTML>
CREATED;TZID=Asia/Seoul:20230717T095248
URL;VALUE=URI:https://humphreys.armymwr.com/calendar/event
DTSTART;TZID=Asia/Seoul:20230811T180000
DTEND;TZID=Asia/Seoul:20230811T190000
SEQUENCE:0
END:VEVENT
END:VCALENDAR
