BEGIN:VCALENDAR
VERSION:2.0
PRODID:-//Sabre//Sabre VObject 4.5.8//EN
CALSCALE:GREGORIAN
BEGIN:VEVENT
UID:sabre-vobject-d0ce1906-6098-4e0d-8692-7ebd74da7e68
DTSTAMP:20260421T040749Z
SUMMARY:BOSS "KBO Baseball Game"
DESCRIPTION:NC Dinos VS Doosan Bears\n
X-ALT-DESC:FMTTYPE=text/html:<!DOCTYPE HTML PUBLIC "-//W3C//DTD HTML 3.2//E
 N"><HTML><p>NC Dinos VS Doosan Bears</p>\n</HTML>
CREATED;TZID=Asia/Seoul:20230719T091108
URL;VALUE=URI:https://humphreys.armymwr.com/calendar/event
DTSTART;TZID=Asia/Seoul:20230818T140000
DTEND;TZID=Asia/Seoul:20230818T230000
SEQUENCE:0
END:VEVENT
END:VCALENDAR
