BEGIN:VCALENDAR
VERSION:2.0
PRODID:-//Sabre//Sabre VObject 4.5.8//EN
CALSCALE:GREGORIAN
BEGIN:VEVENT
UID:sabre-vobject-377affd3-72f8-45fa-8f46-4cc2d1fe6794
DTSTAMP:20260425T025833Z
SUMMARY:2023 USAG Humphreys Company Level Fall Softball League
DESCRIPTION:@ Balboni Softball Field #1 &amp\; #2\n
X-ALT-DESC:FMTTYPE=text/html:<!DOCTYPE HTML PUBLIC "-//W3C//DTD HTML 3.2//E
 N"><HTML><p>@ Balboni Softball Field #1 &amp\; #2</p>\n</HTML>
CREATED;TZID=Asia/Seoul:20230802T144913
URL;VALUE=URI:https://humphreys.armymwr.com/calendar/event
DTSTART;TZID=Asia/Seoul:20230902T100000
DTEND;TZID=Asia/Seoul:20230902T140000
SEQUENCE:0
END:VEVENT
END:VCALENDAR
