BEGIN:VCALENDAR
VERSION:2.0
PRODID:-//Sabre//Sabre VObject 4.5.8//EN
CALSCALE:GREGORIAN
BEGIN:VEVENT
UID:sabre-vobject-6b37aa01-4e36-4c4f-9dec-404a65d1244b
DTSTAMP:20260421T060001Z
SUMMARY:**CANCELED**Resin Fluid Art\, Beginner's - Marble
DESCRIPTION:&nbsp\;\n\n&nbsp\;\n
X-ALT-DESC:FMTTYPE=text/html:<!DOCTYPE HTML PUBLIC "-//W3C//DTD HTML 3.2//E
 N"><HTML><p>&nbsp\;</p>\n\n<p>&nbsp\;</p>\n</HTML>
CREATED;TZID=Asia/Seoul:20230807T080711
URL;VALUE=URI:https://humphreys.armymwr.com/calendar/event
DTSTART;TZID=Asia/Seoul:20230810T110000
DTEND;TZID=Asia/Seoul:20230810T123000
SEQUENCE:0
END:VEVENT
END:VCALENDAR
