BEGIN:VCALENDAR
VERSION:2.0
PRODID:-//Sabre//Sabre VObject 4.5.8//EN
CALSCALE:GREGORIAN
BEGIN:VEVENT
UID:sabre-vobject-283226fd-af8b-4f39-8d8e-85a940b279c1
DTSTAMP:20260421T055953Z
SUMMARY:**CANCELED**Resin Fluid Art\, Beginner's - Marble
DESCRIPTION:&nbsp\;\n\n&nbsp\;\n
X-ALT-DESC:FMTTYPE=text/html:<!DOCTYPE HTML PUBLIC "-//W3C//DTD HTML 3.2//E
 N"><HTML><p>&nbsp\;</p>\n\n<p>&nbsp\;</p>\n</HTML>
CREATED;TZID=Asia/Seoul:20230807T080753
URL;VALUE=URI:https://humphreys.armymwr.com/calendar/event
DTSTART;TZID=Asia/Seoul:20230812T110000
DTEND;TZID=Asia/Seoul:20230812T123000
SEQUENCE:0
END:VEVENT
END:VCALENDAR
