BEGIN:VCALENDAR
VERSION:2.0
PRODID:-//Sabre//Sabre VObject 4.5.8//EN
CALSCALE:GREGORIAN
BEGIN:VEVENT
UID:sabre-vobject-57b05847-ee55-4174-90d1-299bfeef1ed0
DTSTAMP:20260425T184754Z
SUMMARY:**CANCELED**Paint Night @ Warrior Zone
DESCRIPTION:
X-ALT-DESC:FMTTYPE=text/html:<!DOCTYPE HTML PUBLIC "-//W3C//DTD HTML 3.2//E
 N"><HTML></HTML>
CREATED;TZID=Asia/Seoul:20230807T081300
URL;VALUE=URI:https://humphreys.armymwr.com/calendar/event
DTSTART;TZID=Asia/Seoul:20230826T180000
DTEND;TZID=Asia/Seoul:20230826T190000
SEQUENCE:0
END:VEVENT
END:VCALENDAR
