BEGIN:VCALENDAR
VERSION:2.0
PRODID:-//Sabre//Sabre VObject 4.5.8//EN
CALSCALE:GREGORIAN
BEGIN:VEVENT
UID:sabre-vobject-57d5785f-b356-456f-9e7f-b9f3be244a9b
DTSTAMP:20260426T012915Z
SUMMARY:Darts Tournament
DESCRIPTION:
X-ALT-DESC:FMTTYPE=text/html:<!DOCTYPE HTML PUBLIC "-//W3C//DTD HTML 3.2//E
 N"><HTML></HTML>
CREATED;TZID=Asia/Seoul:20240207T154716
URL;VALUE=URI:https://humphreys.armymwr.com/calendar/event
DTSTART;TZID=Asia/Seoul:20240426T150000
DTEND;TZID=Asia/Seoul:20240426T000000
SEQUENCE:0
END:VEVENT
END:VCALENDAR
