BEGIN:VCALENDAR
VERSION:2.0
PRODID:-//Sabre//Sabre VObject 4.5.8//EN
CALSCALE:GREGORIAN
BEGIN:VEVENT
UID:sabre-vobject-765d4e83-95d9-4314-87da-cb56969c1598
DTSTAMP:20260423T184314Z
SUMMARY:Paw Tales
DESCRIPTION:SFC Ray E. Duke Memorial Library\, Bldg. 2220\n
X-ALT-DESC:FMTTYPE=text/html:<!DOCTYPE HTML PUBLIC "-//W3C//DTD HTML 3.2//E
 N"><HTML><p>SFC Ray E. Duke Memorial Library\, Bldg. 2220</p>\n</HTML>
CREATED;TZID=Asia/Seoul:20240322T100927
URL;VALUE=URI:https://humphreys.armymwr.com/calendar/event
DTSTART;TZID=Asia/Seoul:20240323T140000
DTEND;TZID=Asia/Seoul:20240323T150000
SEQUENCE:0
END:VEVENT
BEGIN:VEVENT
UID:sabre-vobject-9b47d914-621a-48fe-9a0a-0879d0489e30
DTSTAMP:20260423T184314Z
SUMMARY:Paw Tales
DESCRIPTION:SFC Ray E. Duke Memorial Library\, Bldg. 2220\n
X-ALT-DESC:FMTTYPE=text/html:<!DOCTYPE HTML PUBLIC "-//W3C//DTD HTML 3.2//E
 N"><HTML><p>SFC Ray E. Duke Memorial Library\, Bldg. 2220</p>\n</HTML>
CREATED;TZID=Asia/Seoul:20240322T100927
URL;VALUE=URI:https://humphreys.armymwr.com/calendar/event
DTSTART;TZID=Asia/Seoul:20240427T140000
DTEND;TZID=Asia/Seoul:20240427T150000
SEQUENCE:1
END:VEVENT
BEGIN:VEVENT
UID:sabre-vobject-e91d6957-ce80-426e-a4ec-18f5099b8fb7
DTSTAMP:20260423T184314Z
SUMMARY:Paw Tales
DESCRIPTION:SFC Ray E. Duke Memorial Library\, Bldg. 2220\n
X-ALT-DESC:FMTTYPE=text/html:<!DOCTYPE HTML PUBLIC "-//W3C//DTD HTML 3.2//E
 N"><HTML><p>SFC Ray E. Duke Memorial Library\, Bldg. 2220</p>\n</HTML>
CREATED;TZID=Asia/Seoul:20240322T100927
URL;VALUE=URI:https://humphreys.armymwr.com/calendar/event
DTSTART;TZID=Asia/Seoul:20240525T140000
DTEND;TZID=Asia/Seoul:20240525T150000
SEQUENCE:2
END:VEVENT
BEGIN:VEVENT
UID:sabre-vobject-928fc00c-7e2d-4798-8fee-7ac14e334b65
DTSTAMP:20260423T184314Z
SUMMARY:Paw Tales
DESCRIPTION:SFC Ray E. Duke Memorial Library\, Bldg. 2220\n
X-ALT-DESC:FMTTYPE=text/html:<!DOCTYPE HTML PUBLIC "-//W3C//DTD HTML 3.2//E
 N"><HTML><p>SFC Ray E. Duke Memorial Library\, Bldg. 2220</p>\n</HTML>
CREATED;TZID=Asia/Seoul:20240322T100927
URL;VALUE=URI:https://humphreys.armymwr.com/calendar/event
DTSTART;TZID=Asia/Seoul:20240622T140000
DTEND;TZID=Asia/Seoul:20240622T150000
SEQUENCE:3
END:VEVENT
END:VCALENDAR
