BEGIN:VCALENDAR
VERSION:2.0
PRODID:-//Sabre//Sabre VObject 4.5.8//EN
CALSCALE:GREGORIAN
BEGIN:VEVENT
UID:sabre-vobject-ef176711-2a7d-4cdb-8b25-58ce5ddf3071
DTSTAMP:20260426T025159Z
SUMMARY:Taean Tulip Festival & Sinduri Coastal Sand Dune
DESCRIPTION:REGISTRATION CLOSED/FULLY BOOKED\n&nbsp\;\n
X-ALT-DESC:FMTTYPE=text/html:<!DOCTYPE HTML PUBLIC "-//W3C//DTD HTML 3.2//E
 N"><HTML><h3><strong>REGISTRATION CLOSED/FULLY BOOKED</strong><br />\n&nbs
 p\;</h3>\n</HTML>
CREATED;TZID=Asia/Seoul:20240423T152727
URL;VALUE=URI:https://humphreys.armymwr.com/calendar/event
DTSTART;TZID=Asia/Seoul:20240427T080000
DTEND;TZID=Asia/Seoul:20240427T180000
SEQUENCE:0
END:VEVENT
END:VCALENDAR
