BEGIN:VCALENDAR
VERSION:2.0
PRODID:-//Sabre//Sabre VObject 4.5.8//EN
CALSCALE:GREGORIAN
BEGIN:VEVENT
UID:sabre-vobject-ad2be916-86c3-45ba-b848-3265d7dce9e8
DTSTAMP:20260425T220110Z
SUMMARY:GIANT JENGA
DESCRIPTION:Downtown Recreation Center\, Bldg. 5724\n
X-ALT-DESC:FMTTYPE=text/html:<!DOCTYPE HTML PUBLIC "-//W3C//DTD HTML 3.2//E
 N"><HTML><p>Downtown Recreation Center\, Bldg. 5724</p>\n</HTML>
CREATED;TZID=Asia/Seoul:20240502T100432
URL;VALUE=URI:https://humphreys.armymwr.com/calendar/event
DTSTART;TZID=Asia/Seoul:20240511T140000
DTEND;TZID=Asia/Seoul:20240511T150000
SEQUENCE:0
END:VEVENT
END:VCALENDAR
