BEGIN:VCALENDAR
VERSION:2.0
PRODID:-//Sabre//Sabre VObject 4.5.8//EN
CALSCALE:GREGORIAN
BEGIN:VEVENT
UID:sabre-vobject-b696be82-b98f-4c53-8c70-559b0feb9d16
DTSTAMP:20260425T184558Z
SUMMARY:Mother's Day Flower Pot
DESCRIPTION:Downtown Recreation Center\, Bldg. 5724\n
X-ALT-DESC:FMTTYPE=text/html:<!DOCTYPE HTML PUBLIC "-//W3C//DTD HTML 3.2//E
 N"><HTML><p>Downtown Recreation Center\, Bldg. 5724</p>\n</HTML>
CREATED;TZID=Asia/Seoul:20240228T145636
URL;VALUE=URI:https://humphreys.armymwr.com/calendar/event
DTSTART;TZID=Asia/Seoul:20240512T130000
DTEND;TZID=Asia/Seoul:20240512T140000
SEQUENCE:0
END:VEVENT
END:VCALENDAR
