BEGIN:VCALENDAR
VERSION:2.0
PRODID:-//Sabre//Sabre VObject 4.5.8//EN
CALSCALE:GREGORIAN
BEGIN:VEVENT
UID:sabre-vobject-049908b9-fc12-4978-aed5-d515590619ce
DTSTAMP:20260425T184557Z
SUMMARY:Family BINGO Night
DESCRIPTION:Downtown Recreation Center\, Bldg. 5274\n
X-ALT-DESC:FMTTYPE=text/html:<!DOCTYPE HTML PUBLIC "-//W3C//DTD HTML 3.2//E
 N"><HTML><p>Downtown Recreation Center\, Bldg. 5274</p>\n</HTML>
CREATED;TZID=Asia/Seoul:20240308T151603
URL;VALUE=URI:https://humphreys.armymwr.com/calendar/event
DTSTART;TZID=Asia/Seoul:20240526T170000
DTEND;TZID=Asia/Seoul:20240526T180000
SEQUENCE:0
END:VEVENT
END:VCALENDAR
