BEGIN:VCALENDAR
VERSION:2.0
PRODID:-//Sabre//Sabre VObject 4.5.8//EN
CALSCALE:GREGORIAN
BEGIN:VEVENT
UID:sabre-vobject-7aaea886-3b69-471f-8e81-f96acf243f42
DTSTAMP:20260424T112125Z
SUMMARY:Army Ten Miler Qualifier
DESCRIPTION:Sitman Fitness Center\n
X-ALT-DESC:FMTTYPE=text/html:<!DOCTYPE HTML PUBLIC "-//W3C//DTD HTML 3.2//E
 N"><HTML><p>Sitman Fitness Center</p>\n</HTML>
CREATED;TZID=Asia/Seoul:20240419T144537
URL;VALUE=URI:https://humphreys.armymwr.com/calendar/event
DTSTART;TZID=Asia/Seoul:20240608T060000
DTEND;TZID=Asia/Seoul:20240608T180000
SEQUENCE:0
END:VEVENT
END:VCALENDAR
