BEGIN:VCALENDAR
VERSION:2.0
PRODID:-//Sabre//Sabre VObject 4.5.8//EN
CALSCALE:GREGORIAN
BEGIN:VEVENT
UID:sabre-vobject-b5cb0340-20a2-4a4b-81d8-c7082aa8f16b
DTSTAMP:20260426T025200Z
SUMMARY:DIY Wooden Airplane Craft Kit
DESCRIPTION:Downtown Recreation Center\, Bldg. 5724\n
X-ALT-DESC:FMTTYPE=text/html:<!DOCTYPE HTML PUBLIC "-//W3C//DTD HTML 3.2//E
 N"><HTML><p>Downtown Recreation Center\, Bldg. 5724</p>\n</HTML>
CREATED;TZID=Asia/Seoul:20240312T142522
URL;VALUE=URI:https://humphreys.armymwr.com/calendar/event
DTSTART;TZID=Asia/Seoul:20240505T130000
DTEND;TZID=Asia/Seoul:20240505T150000
SEQUENCE:0
END:VEVENT
END:VCALENDAR
