BEGIN:VCALENDAR
VERSION:2.0
PRODID:-//Sabre//Sabre VObject 4.5.8//EN
CALSCALE:GREGORIAN
BEGIN:VEVENT
UID:sabre-vobject-ec1b1805-d1f8-4ef5-b44f-9eb439712800
DTSTAMP:20260426T013839Z
SUMMARY:Intramural Sports Softball League
DESCRIPTION:Collier Fitness Center\, Bldg. 1949\n
X-ALT-DESC:FMTTYPE=text/html:<!DOCTYPE HTML PUBLIC "-//W3C//DTD HTML 3.2//E
 N"><HTML><p>Collier Fitness Center\, Bldg. 1949</p>\n</HTML>
CREATED;TZID=Asia/Seoul:20240319T144815
URL;VALUE=URI:https://humphreys.armymwr.com/calendar/event
DTSTART;TZID=Asia/Seoul:20240425T120000
DTEND;TZID=Asia/Seoul:20240425T130000
SEQUENCE:0
END:VEVENT
END:VCALENDAR
