BEGIN:VCALENDAR
VERSION:2.0
PRODID:-//Sabre//Sabre VObject 4.5.8//EN
CALSCALE:GREGORIAN
BEGIN:VEVENT
UID:sabre-vobject-963d32f7-6a8b-4b6d-814e-6a21496ef5ee
DTSTAMP:20260425T221200Z
SUMMARY:Fishbowl Terrarium
DESCRIPTION:Arts &amp\; Crafts Center\, Bldg. 5711\n
X-ALT-DESC:FMTTYPE=text/html:<!DOCTYPE HTML PUBLIC "-//W3C//DTD HTML 3.2//E
 N"><HTML><p>Arts &amp\; Crafts Center\, Bldg. 5711</p>\n</HTML>
CREATED;TZID=Asia/Seoul:20240325T085347
URL;VALUE=URI:https://humphreys.armymwr.com/calendar/event
DTSTART;TZID=Asia/Seoul:20240427T233000
DTEND;TZID=Asia/Seoul:20240427T133000
SEQUENCE:0
END:VEVENT
END:VCALENDAR
