BEGIN:VCALENDAR
VERSION:2.0
PRODID:-//Sabre//Sabre VObject 4.5.8//EN
CALSCALE:GREGORIAN
BEGIN:VEVENT
UID:sabre-vobject-dc3132e3-75ba-4e73-a0d3-aa228936a393
DTSTAMP:20260425T152248Z
SUMMARY:Hangul Nori Parents Day Celebration
DESCRIPTION:
X-ALT-DESC:FMTTYPE=text/html:<!DOCTYPE HTML PUBLIC "-//W3C//DTD HTML 3.2//E
 N"><HTML></HTML>
CREATED;TZID=Asia/Seoul:20240426T112220
URL;VALUE=URI:https://humphreys.armymwr.com/calendar/event
DTSTART;TZID=Asia/Seoul:20240507T143000
DTEND;TZID=Asia/Seoul:20240507T153000
SEQUENCE:0
END:VEVENT
END:VCALENDAR
