BEGIN:VCALENDAR
VERSION:2.0
PRODID:-//Sabre//Sabre VObject 4.5.8//EN
CALSCALE:GREGORIAN
BEGIN:VEVENT
UID:sabre-vobject-8bb96010-ecc4-49e3-952c-9e637c30a28e
DTSTAMP:20260422T182210Z
SUMMARY:Family Charades Day
DESCRIPTION:Downtown Recreation Center\n
X-ALT-DESC:FMTTYPE=text/html:<!DOCTYPE HTML PUBLIC "-//W3C//DTD HTML 3.2//E
 N"><HTML><p>Downtown Recreation Center</p>\n</HTML>
CREATED;TZID=Asia/Seoul:20240404T094519
URL;VALUE=URI:https://humphreys.armymwr.com/calendar/event
DTSTART;TZID=Asia/Seoul:20240629T133000
DTEND;TZID=Asia/Seoul:20240629T143000
SEQUENCE:0
END:VEVENT
END:VCALENDAR
