BEGIN:VCALENDAR
VERSION:2.0
PRODID:-//Sabre//Sabre VObject 4.5.8//EN
CALSCALE:GREGORIAN
BEGIN:VEVENT
UID:sabre-vobject-36425bc8-6155-4456-86f8-59b076e4fd24
DTSTAMP:20260424T082517Z
SUMMARY:Bubbles Day
DESCRIPTION:
X-ALT-DESC:FMTTYPE=text/html:<!DOCTYPE HTML PUBLIC "-//W3C//DTD HTML 3.2//E
 N"><HTML></HTML>
CREATED;TZID=Asia/Seoul:20240405T150041
URL;VALUE=URI:https://humphreys.armymwr.com/calendar/event
DTSTART;TZID=Asia/Seoul:20240608T130000
DTEND;TZID=Asia/Seoul:20240608T140000
SEQUENCE:0
END:VEVENT
END:VCALENDAR
