BEGIN:VCALENDAR
VERSION:2.0
PRODID:-//Sabre//Sabre VObject 4.5.8//EN
CALSCALE:GREGORIAN
BEGIN:VEVENT
UID:sabre-vobject-0243a772-b7e5-47b2-8055-081ee17242c3
DTSTAMP:20260423T112023Z
SUMMARY:DTRC Ping Pong Tournament
DESCRIPTION:
X-ALT-DESC:FMTTYPE=text/html:<!DOCTYPE HTML PUBLIC "-//W3C//DTD HTML 3.2//E
 N"><HTML></HTML>
CREATED;TZID=Asia/Seoul:20240405T155415
URL;VALUE=URI:https://humphreys.armymwr.com/calendar/event
DTSTART;TZID=Asia/Seoul:20240613T170000
DTEND;TZID=Asia/Seoul:20240613T180000
SEQUENCE:0
END:VEVENT
END:VCALENDAR
