BEGIN:VCALENDAR
VERSION:2.0
PRODID:-//Sabre//Sabre VObject 4.5.8//EN
CALSCALE:GREGORIAN
BEGIN:VEVENT
UID:sabre-vobject-727ce2ee-ba26-42a3-beea-bbf52ac791c4
DTSTAMP:20260423T112031Z
SUMMARY:DIY Father's Day Tool Kit
DESCRIPTION:Downtown Recreation Center\n
X-ALT-DESC:FMTTYPE=text/html:<!DOCTYPE HTML PUBLIC "-//W3C//DTD HTML 3.2//E
 N"><HTML><p>Downtown Recreation Center</p>\n</HTML>
CREATED;TZID=Asia/Seoul:20240410T154508
URL;VALUE=URI:https://humphreys.armymwr.com/calendar/event
DTSTART;TZID=Asia/Seoul:20240615T130000
DTEND;TZID=Asia/Seoul:20240615T140000
SEQUENCE:0
END:VEVENT
END:VCALENDAR
