BEGIN:VCALENDAR
VERSION:2.0
PRODID:-//Sabre//Sabre VObject 4.5.8//EN
CALSCALE:GREGORIAN
BEGIN:VEVENT
UID:sabre-vobject-d594e73f-2fdd-4a40-97a8-cec24113bd76
DTSTAMP:20260423T004919Z
SUMMARY:Jungle Cruise Safari
DESCRIPTION:2024 Summer Reading Program\n
X-ALT-DESC:FMTTYPE=text/html:<!DOCTYPE HTML PUBLIC "-//W3C//DTD HTML 3.2//E
 N"><HTML><h4>2024 Summer Reading Program</h4>\n</HTML>
CREATED;TZID=Asia/Seoul:20240418T160512
URL;VALUE=URI:https://humphreys.armymwr.com/calendar/event
DTSTART;TZID=Asia/Seoul:20240626T103000
DTEND;TZID=Asia/Seoul:20240626T120000
SEQUENCE:0
END:VEVENT
END:VCALENDAR
