BEGIN:VCALENDAR
VERSION:2.0
PRODID:-//Sabre//Sabre VObject 4.5.8//EN
CALSCALE:GREGORIAN
BEGIN:VEVENT
UID:sabre-vobject-6b01387b-1a84-489a-a10f-a582838d24e3
DTSTAMP:20260420T164035Z
SUMMARY:The Magic Show
DESCRIPTION:2024 Summer Reading Program\n
X-ALT-DESC:FMTTYPE=text/html:<!DOCTYPE HTML PUBLIC "-//W3C//DTD HTML 3.2//E
 N"><HTML><h4>2024 Summer Reading Program</h4>\n</HTML>
CREATED;TZID=Asia/Seoul:20240716T101609
URL;VALUE=URI:https://humphreys.armymwr.com/calendar/event
DTSTART;TZID=Asia/Seoul:20240731T103000
DTEND;TZID=Asia/Seoul:20240731T120000
SEQUENCE:0
END:VEVENT
END:VCALENDAR
