BEGIN:VCALENDAR
VERSION:2.0
PRODID:-//Sabre//Sabre VObject 4.5.8//EN
CALSCALE:GREGORIAN
BEGIN:VEVENT
UID:sabre-vobject-29468ed6-0b13-4523-ab13-6b6915c4fa00
DTSTAMP:20260420T100940Z
SUMMARY:Summer Reading Program Finale Bowling Celebration
DESCRIPTION:2024 Summer Reading Program\n
X-ALT-DESC:FMTTYPE=text/html:<!DOCTYPE HTML PUBLIC "-//W3C//DTD HTML 3.2//E
 N"><HTML><h4>2024 Summer Reading Program</h4>\n</HTML>
CREATED;TZID=Asia/Seoul:20240716T101953
URL;VALUE=URI:https://humphreys.armymwr.com/calendar/event
DTSTART;TZID=Asia/Seoul:20240817T103000
DTEND;TZID=Asia/Seoul:20240817T123000
SEQUENCE:0
END:VEVENT
END:VCALENDAR
