BEGIN:VCALENDAR
VERSION:2.0
PRODID:-//Sabre//Sabre VObject 4.5.8//EN
CALSCALE:GREGORIAN
BEGIN:VEVENT
UID:sabre-vobject-18136a1c-e873-44fa-ac0d-29a2fc66862e
DTSTAMP:20260426T013810Z
SUMMARY:Herb Island Lighting Night Trip
DESCRIPTION:Reserve your seat on the bus with Outdoor Recreation!\n
X-ALT-DESC:FMTTYPE=text/html:<!DOCTYPE HTML PUBLIC "-//W3C//DTD HTML 3.2//E
 N"><HTML><h5>Reserve your seat on the bus with Outdoor Recreation!</h5>\n<
 /HTML>
CREATED;TZID=Asia/Seoul:20240426T104106
URL;VALUE=URI:https://humphreys.armymwr.com/calendar/event
DTSTART;TZID=Asia/Seoul:20240504T160000
DTEND;TZID=Asia/Seoul:20240504T230000
SEQUENCE:0
END:VEVENT
END:VCALENDAR
