BEGIN:VCALENDAR
VERSION:2.0
PRODID:-//Sabre//Sabre VObject 4.5.8//EN
CALSCALE:GREGORIAN
BEGIN:VEVENT
UID:sabre-vobject-268f0b06-990f-4bcb-afd7-0343dc6b9a75
DTSTAMP:20260425T184611Z
SUMMARY:Paragliding
DESCRIPTION:Trip Fully Booked\nRegistration CLOSED\n
X-ALT-DESC:FMTTYPE=text/html:<!DOCTYPE HTML PUBLIC "-//W3C//DTD HTML 3.2//E
 N"><HTML><h5>Trip Fully Booked<br />\nRegistration CLOSED</h5>\n</HTML>
CREATED;TZID=Asia/Seoul:20240517T155943
URL;VALUE=URI:https://humphreys.armymwr.com/calendar/event
DTSTART;TZID=Asia/Seoul:20240526T080000
DTEND;TZID=Asia/Seoul:20240526T170000
SEQUENCE:0
END:VEVENT
END:VCALENDAR
