BEGIN:VCALENDAR
VERSION:2.0
PRODID:-//Sabre//Sabre VObject 4.5.8//EN
CALSCALE:GREGORIAN
BEGIN:VEVENT
UID:sabre-vobject-bc486c9b-5112-48b2-ac1b-50aaeebac6a0
DTSTAMP:20260424T022009Z
SUMMARY:Saturday Nights Live Entertainment feat. B90's
DESCRIPTION:Flightline Tap Room\n
X-ALT-DESC:FMTTYPE=text/html:<!DOCTYPE HTML PUBLIC "-//W3C//DTD HTML 3.2//E
 N"><HTML><h5>Flightline Tap Room</h5>\n</HTML>
CREATED;TZID=Asia/Seoul:20240424T144131
URL;VALUE=URI:https://humphreys.armymwr.com/calendar/event
DTSTART;TZID=Asia/Seoul:20240601T190000
DTEND;TZID=Asia/Seoul:20240601T220000
SEQUENCE:0
END:VEVENT
END:VCALENDAR
