BEGIN:VCALENDAR
VERSION:2.0
PRODID:-//Sabre//Sabre VObject 4.5.8//EN
CALSCALE:GREGORIAN
BEGIN:VEVENT
UID:sabre-vobject-4865e1c8-7253-493b-b055-976028f19918
DTSTAMP:20260424T022007Z
SUMMARY:Amphibious Bus & Baekje Cultural Land
DESCRIPTION:Reserve your seat on the bus with Outdoor Recreation!\n
X-ALT-DESC:FMTTYPE=text/html:<!DOCTYPE HTML PUBLIC "-//W3C//DTD HTML 3.2//E
 N"><HTML><h5>Reserve your seat on the bus with Outdoor Recreation!</h5>\n<
 /HTML>
CREATED;TZID=Asia/Seoul:20240426T085922
URL;VALUE=URI:https://humphreys.armymwr.com/calendar/event
DTSTART;TZID=Asia/Seoul:20240601T080000
DTEND;TZID=Asia/Seoul:20240601T180000
SEQUENCE:0
END:VEVENT
END:VCALENDAR
